BEGIN:VCALENDAR
VERSION:2.0
PRODID:-//Tukios.com/
BEGIN:VEVENT
UID:b414e848-9d79-4d4e-b3e6-78ddbcbacdb9@www.mulhane.com
DTSTAMP:20260424T025034Z
DTSTART:20260515T230000Z
DTEND:20260516T000000Z
SUMMARY:Military Honors and Words of Remembrance
DESCRIPTION:
URL:https://www.mulhane.com/obituaries/robert-herriage
LOCATION: 45 N. Main Street  Millbury MA 01527
GEO:42.1940445;-71.7620314
END:VEVENT
END:VCALENDAR