BEGIN:VCALENDAR
VERSION:2.0
PRODID:-//Tukios.com/
BEGIN:VEVENT
UID:b621b166-0d82-4fc2-bab6-a6d5cc4a03e0@www.mulhane.com
DTSTAMP:20260424T025314Z
DTSTART:20260515T200000Z
DTEND:20260515T230000Z
SUMMARY:Visitation
DESCRIPTION:
URL:https://www.mulhane.com/obituaries/robert-herriage
LOCATION:Mulhane Home For Funerals 45 N. Main Street  Millbury MA 01527
GEO:42.1940445;-71.7620314
END:VEVENT
END:VCALENDAR